BEGIN:VCALENDAR
VERSION:2.0
PRODID:-//ChamberMaster//Event Calendar 2.0//EN
METHOD:PUBLISH
X-PUBLISHED-TTL:P3D
REFRESH-INTERVAL:P3D
CALSCALE:GREGORIAN
BEGIN:VEVENT
DTSTART:20200118T153000Z
DTEND:20200118T153000Z
X-MICROSOFT-CDO-ALLDAYEVENT:FALSE
SUMMARY:Family Nature Quest: Birds\, Birds\, Birds
DESCRIPTION:Meet in the Resource Center. Explore winter in Ohio by learning about our winter birds and how they survive. Then become a valuable resource for our winter birds by decorating your very own natural bird feeder to take home! If the weather is pleasant\, we'll head outside with binoculars to see some of our feathered friends.
X-ALT-DESC;FMTTYPE=text/html:Meet in the Resource Center. Explore winter in Ohio by learning about our winter birds and how they survive. Then become a valuable resource for our winter birds by decorating your very own natural bird feeder to take home! If the weather is pleasant\, we&rsquo\;ll head outside with binoculars to see some of our feathered friends.
LOCATION:Brown Family Environmental Center
UID:e.2893.4686
SEQUENCE:3
DTSTAMP:20260420T231444Z
URL:http://knoxchamber.smartcms.site/events/details/family-nature-quest-birds-birds-birds-4686
END:VEVENT

END:VCALENDAR
