BEGIN:VCALENDAR
VERSION:2.0
PRODID:-//ChamberMaster//Event Calendar 2.0//EN
METHOD:PUBLISH
X-PUBLISHED-TTL:P3D
REFRESH-INTERVAL:P3D
CALSCALE:GREGORIAN
BEGIN:VEVENT
DTSTART:20190223T153000Z
DTEND:20190223T163000Z
X-MICROSOFT-CDO-ALLDAYEVENT:FALSE
SUMMARY:Family Nature Quest: Bird Survival Kits
DESCRIPTION:Meet in the Resource Center. Explore Ohio's winter birds and how they survive. Build your own bird feeder to take home! If the weather is tolerable\, we'll head outside with binoculars to see some of our feathered friends.
X-ALT-DESC;FMTTYPE=text/html:Meet in the Resource Center. Explore Ohio&rsquo\;s winter birds and how they survive. Build your own bird feeder to take home! If the weather is tolerable\, we&rsquo\;ll head outside with binoculars to see some of our feathered friends.
LOCATION:Brown Family Environmental Center 9781 Laymon Rd. Gambier
UID:e.2893.3858
SEQUENCE:3
DTSTAMP:20260421T182751Z
URL:http://knoxchamber.smartcms.site/events/details/family-nature-quest-bird-survival-kits-3858
END:VEVENT

END:VCALENDAR
