BEGIN:VCALENDAR
VERSION:2.0
PRODID:-//ChamberMaster//Event Calendar 2.0//EN
METHOD:PUBLISH
X-PUBLISHED-TTL:P3D
REFRESH-INTERVAL:P3D
CALSCALE:GREGORIAN
BEGIN:VEVENT
DTSTART:20190518T143000Z
DTEND:20190518T143000Z
X-MICROSOFT-CDO-ALLDAYEVENT:FALSE
SUMMARY:Family Nature Quest: Beautiful Butterflies
DESCRIPTION:Meet at the Picnic Pavilion. Join us as we travel our prairie and garden in search of some beautiful butterflies. We'll learn about butterflies and other pollinators like our native bees. Then\, we'll spend some time drawing and painting the beautiful garden (and pollinators) around us. If inclement weather\, program will be held in the Resource Center
X-ALT-DESC;FMTTYPE=text/html:Meet at the Picnic Pavilion. Join us as we travel our prairie and garden in search of some beautiful butterflies. We&rsquo\;ll learn about butterflies and other pollinators like our native bees. Then\, we&rsquo\;ll spend some time drawing and painting the beautiful garden (and pollinators) around us. If inclement weather\, program will be held in the Resource Center
LOCATION:Brown Family Environmental Center
UID:e.2893.4272
SEQUENCE:3
DTSTAMP:20260421T132906Z
URL:http://knoxchamber.smartcms.site/events/details/family-nature-quest-beautiful-butterflies-4272
END:VEVENT

END:VCALENDAR
