BEGIN:VCALENDAR
VERSION:2.0
PRODID:-//ChamberMaster//Event Calendar 2.0//EN
METHOD:PUBLISH
X-PUBLISHED-TTL:P3D
REFRESH-INTERVAL:P3D
CALSCALE:GREGORIAN
BEGIN:VEVENT
DTSTART:20190504T143000Z
DTEND:20190504T153000Z
X-MICROSOFT-CDO-ALLDAYEVENT:FALSE
SUMMARY:Family Nature Quest: Baby Birds
DESCRIPTION:Meet in the Picnic Pavilion. It's Global Big Day\, birding's biggest day! Discover the many birds around our property and take a peek at some of our Bluebird boxes. Birds are starting to nest\; hopefully we'll see some baby birds and eggs! Then you'll get to make a bird nest of your own to take home. If inclement weather\, program will be held in the Resource Center.
X-ALT-DESC;FMTTYPE=text/html:Meet in the Picnic Pavilion. It&rsquo\;s Global Big Day\, birding&rsquo\;s biggest day! Discover the many birds around our property and take a peek at some of our Bluebird boxes. Birds are starting to nest\; hopefully we&rsquo\;ll see some baby birds and eggs! Then you&rsquo\;ll get to make a bird nest of your own to take home. If inclement weather\, program will be held in the Resource Center.
LOCATION:Brown Family Environmental Center
UID:e.2893.4270
SEQUENCE:3
DTSTAMP:20260421T132906Z
URL:http://knoxchamber.smartcms.site/events/details/family-nature-quest-baby-birds-4270
END:VEVENT

END:VCALENDAR
