BEGIN:VCALENDAR
VERSION:2.0
PRODID:-//ChamberMaster//Event Calendar 2.0//EN
METHOD:PUBLISH
X-PUBLISHED-TTL:P3D
REFRESH-INTERVAL:P3D
CALSCALE:GREGORIAN
BEGIN:VEVENT
DTSTART:20190216T153000Z
DTEND:20190216T183000Z
X-MICROSOFT-CDO-ALLDAYEVENT:FALSE
SUMMARY:Family Nature Day
DESCRIPTION:Meet in the Resource Center. Celebrate Valentine's Day with the Gund Gallery and BFEC! We'll have "heart-hikes" to take pictures of nature\; Valentine's Day-themed nature crafts that include printing your photos\, decorating frames\, and making a nature collage\; a cookie decorating station\; story times\; and hot chocolate and cider. The "heart-hikes" will occur at 10:45 and 12:15\; cameras will be provided. Story times will be at 11:30 and 1:00. Be sure to stop by to celebrate your love for nature!
X-ALT-DESC;FMTTYPE=text/html:Meet in the Resource Center. Celebrate Valentine&rsquo\;s Day with the Gund Gallery and BFEC! We&rsquo\;ll have &ldquo\;heart-hikes&rdquo\; to take pictures of nature\; Valentine&rsquo\;s Day-themed nature crafts that include printing your photos\, decorating frames\, and making a nature collage\; a cookie decorating station\; story times\; and hot chocolate and cider. The &quot\;heart-hikes&quot\; will occur at 10:45 and 12:15\; cameras will be provided. Story times will be at 11:30 and 1:00. Be sure to stop by to celebrate your love for nature!
LOCATION:Brown Family Environmental Center 9781 Laymon Rd. Gambier\, OH 43022
UID:e.2893.3857
SEQUENCE:3
DTSTAMP:20260421T195658Z
URL:http://knoxchamber.smartcms.site/events/details/family-nature-day-3857
END:VEVENT

END:VCALENDAR
