BEGIN:VCALENDAR
VERSION:2.0
PRODID:-//ChamberMaster//Event Calendar 2.0//EN
METHOD:PUBLISH
X-PUBLISHED-TTL:P3D
REFRESH-INTERVAL:P3D
CALSCALE:GREGORIAN
BEGIN:VEVENT
DTSTART:20171125T180000Z
DTEND:20171125T210000Z
X-MICROSOFT-CDO-ALLDAYEVENT:FALSE
SUMMARY:Family Fun Day
DESCRIPTION:Enjoy a fun afternoon at the BFEC with the whole family. Take a short nature hikes\, jump in on a nature investigation\, create something crafty using natural materials\, and more!
X-ALT-DESC;FMTTYPE=text/html:Enjoy a fun afternoon at the BFEC with the whole family. Take a short nature hikes\, jump in on a nature investigation\, create something crafty using natural materials\, and more!
LOCATION:Brown Family Environmental Center
UID:e.2893.1484
SEQUENCE:3
DTSTAMP:20260422T193413Z
URL:http://knoxchamber.smartcms.site/events/details/family-fun-day-1484
END:VEVENT

END:VCALENDAR
