BEGIN:VCALENDAR
VERSION:2.0
PRODID:-//ChamberMaster//Event Calendar 2.0//EN
METHOD:PUBLISH
X-PUBLISHED-TTL:P3D
REFRESH-INTERVAL:P3D
CALSCALE:GREGORIAN
BEGIN:VEVENT
DTSTART:20180328T170000Z
DTEND:20180328T200000Z
X-MICROSOFT-CDO-ALLDAYEVENT:FALSE
SUMMARY:Family Fun Day
DESCRIPTION:Meet at the BFEC Resource Center. Enjoy a fun afternoon at the BFEC with the whole family. Take a short nature hike\, jump in on a nature investigation\, create something crafty using natural materials\, and more! FREE.
X-ALT-DESC;FMTTYPE=text/html:Meet at the BFEC Resource Center. Enjoy a fun afternoon at the BFEC with the whole family. Take a short nature hike\, jump in on a nature investigation\, create something crafty using natural materials\, and more! FREE.
LOCATION:Brown Family Environmental Center
UID:e.2893.2534
SEQUENCE:3
DTSTAMP:20260422T142204Z
URL:http://knoxchamber.smartcms.site/events/details/family-fun-day-03-28-2018-2534
END:VEVENT

END:VCALENDAR
