BEGIN:VCALENDAR
VERSION:2.0
PRODID:-//ChamberMaster//Event Calendar 2.0//EN
METHOD:PUBLISH
X-PUBLISHED-TTL:P3D
REFRESH-INTERVAL:P3D
CALSCALE:GREGORIAN
BEGIN:VEVENT
DTSTART:20231007T130000Z
DTEND:20231007T160000Z
X-MICROSOFT-CDO-ALLDAYEVENT:FALSE
SUMMARY:Family Day & 5K hosted by Starting Point
DESCRIPTION:Starting Point will host their Annual Family Day & 5K with a fun run on Saturday\, October 7th at Fredericktown Community Sockman Park.\n\n\n\nAll are welcome! Bring your family for a Fun Run\, ice cream truck\, 5k\, food truck\, hotdogs\, popcorn\, games\, bouncy-house\, and prizes while we raise money to support the services of Starting Point.
X-ALT-DESC;FMTTYPE=text/html:Starting Point will host their Annual Family Day &amp\; 5K with a fun run on <span style="color:#33cc00\;"><strong>Saturday\,&nbsp\;October 7th</strong></span> at Fredericktown Community Sockman Park.<br />\n<br />\nAll are welcome! Bring your family for a Fun Run\, ice cream truck\, 5k\, food truck\, hotdogs\, popcorn\, games\, bouncy-house\, and prizes while we raise money to support the services of Starting Point.
LOCATION:10 Ankneytown Rd\, Fredericktown\, Ohio 43019
UID:e.2893.8015
SEQUENCE:3
DTSTAMP:20260423T092849Z
URL:http://knoxchamber.smartcms.site/events/details/family-day-5k-hosted-by-starting-point-8015
END:VEVENT

END:VCALENDAR
