BEGIN:VCALENDAR
VERSION:2.0
PRODID:-//ChamberMaster//Event Calendar 2.0//EN
METHOD:PUBLISH
X-PUBLISHED-TTL:P3D
REFRESH-INTERVAL:P3D
CALSCALE:GREGORIAN
BEGIN:VEVENT
DTSTART:20161015T000000Z
DTEND:20161015T000000Z
X-MICROSOFT-CDO-ALLDAYEVENT:FALSE
SUMMARY:Fall Night Sky
DESCRIPTION:Bring a blanket and admire the season's constellations as you listen to Professor of Humanities\, Tim Shutt\, tell mythological stories about the stars. Meet at the BFEC Farmhouse. Rain/cloud date is Oct 21\, 8pm. Call the BFEC for program status.
X-ALT-DESC;FMTTYPE=text/html:Bring a blanket and admire the season's constellations as you listen to Professor of Humanities\, Tim Shutt\, tell mythological stories about the stars. Meet at the BFEC Farmhouse. Rain/cloud date is Oct 21\, 8pm. Call the BFEC for program status.
LOCATION:9781 Laymon Rd.\, Gambier\, Oh 43022 BFEC House: Take Rt. 229 from Mount Vernon and make a right on Laymon road. The BfEC House is the first driveway on the right after the Gap Trail entrance.
UID:e.2893.906
SEQUENCE:3
DTSTAMP:20260423T192955Z
URL:http://knoxchamber.smartcms.site/events/details/fall-night-sky-10-14-2016-906
END:VEVENT

END:VCALENDAR
