BEGIN:VCALENDAR
VERSION:2.0
PRODID:-//ChamberMaster//Event Calendar 2.0//EN
METHOD:PUBLISH
X-PUBLISHED-TTL:P3D
REFRESH-INTERVAL:P3D
CALSCALE:GREGORIAN
BEGIN:VEVENT
DTSTART:20231014T160000Z
DTEND:20231014T200000Z
X-MICROSOFT-CDO-ALLDAYEVENT:FALSE
SUMMARY:Fall Harvest Festival at BFEC
DESCRIPTION:This annual event features horse-drawn hayrides\, pumpkin decorating\, live music\, cider press\, and children's games and activities. Please join us for this family-friendly event!
X-ALT-DESC;FMTTYPE=text/html:This annual event features horse-drawn hayrides\, pumpkin decorating\, live music\, cider press\, and children&#39\;s games and activities. Please join us for this family-friendly event!
LOCATION:Brown Family Environmental Center
UID:e.2893.8493
SEQUENCE:3
DTSTAMP:20260421T085326Z
URL:http://knoxchamber.smartcms.site/events/details/fall-harvest-festival-at-bfec-8493
END:VEVENT

END:VCALENDAR
