BEGIN:VCALENDAR
VERSION:2.0
PRODID:-//ChamberMaster//Event Calendar 2.0//EN
METHOD:PUBLISH
X-PUBLISHED-TTL:P3D
REFRESH-INTERVAL:P3D
CALSCALE:GREGORIAN
BEGIN:VEVENT
DTSTART:20161015T180000Z
DTEND:20161015T210000Z
X-MICROSOFT-CDO-ALLDAYEVENT:FALSE
SUMMARY:Fall Harvest Festival
DESCRIPTION:Fall Harvest Festival - Saturday\, October 15\, 2-5pm\nCelebrate the season with this FREE family event.  Activities include wagon rides\, live music\, kids' harvest races\, farm animals and produce\, bonfire\,  cider press\, pumpkin decorating with OSU Extension Master Gardeners\,\nand the Knox County Nature Photography Contest show.
X-ALT-DESC;FMTTYPE=text/html:Fall Harvest Festival - Saturday\, October 15\, 2-5pm\nCelebrate the season with this FREE family event.  Activities include wagon rides\, live music\, kids' harvest races\, farm animals and produce\, bonfire\,  cider press\, pumpkin decorating with OSU Extension Master Gardeners\,\nand the Knox County Nature Photography Contest show.
LOCATION:9781 Laymon Rd.\, Gambier\, Oh 43050 9781 Laymon Rd.
UID:e.2893.791
SEQUENCE:3
DTSTAMP:20260423T193355Z
URL:http://knoxchamber.smartcms.site/events/details/fall-harvest-festival-10-15-2016-791
END:VEVENT

END:VCALENDAR
