BEGIN:VCALENDAR
VERSION:2.0
PRODID:-//ChamberMaster//Event Calendar 2.0//EN
METHOD:PUBLISH
X-PUBLISHED-TTL:P3D
REFRESH-INTERVAL:P3D
CALSCALE:GREGORIAN
BEGIN:VEVENT
DTSTART:20181026T200000Z
DTEND:20181027T230000Z
X-MICROSOFT-CDO-ALLDAYEVENT:FALSE
SUMMARY:Fall-Friends-Fashion sale
DESCRIPTION:Deans Jewelry is having their "Fall-Friends-Fashion" sale October 26 and 27 from 4:00pm to 7:00 pm.  Enjoy refreshments\, be entered to win a $500 shopping spree\, and bring a friend for 20% off.  Click here for more information.
X-ALT-DESC;FMTTYPE=text/html:<span><a _mce_href="https://www.deansjewelry.com/" _mce_style="color: #800000\; font-weight: bold\; text-decoration: underline\;" href="https://www.deansjewelry.com/" linktype="1" style="color: rgb(128\, 0\, 0)\; font-weight: bold\; text-decoration: underline\;" target="_blank" track="on">Deans Jewelry</a> is having their &quot\;Fall-Friends-Fashion&quot\; sale October 26 and 27 from 4:00pm to 7:00 pm.&nbsp\; Enjoy refreshments\, be entered to win a $500 shopping spree\, and bring a friend for 20% off.&nbsp\; Click here for more information.</span>
LOCATION:Deans Jewelry 1558 E Coshocton Avenue Mount Vernon
UID:e.2893.3831
SEQUENCE:3
DTSTAMP:20260422T011209Z
URL:http://knoxchamber.smartcms.site/events/details/fall-friends-fashion-sale-3831
END:VEVENT

END:VCALENDAR
