BEGIN:VCALENDAR
VERSION:2.0
PRODID:-//ChamberMaster//Event Calendar 2.0//EN
METHOD:PUBLISH
X-PUBLISHED-TTL:P3D
REFRESH-INTERVAL:P3D
CALSCALE:GREGORIAN
BEGIN:VEVENT
DTSTART:20231013T210000Z
DTEND:20231013T230000Z
X-MICROSOFT-CDO-ALLDAYEVENT:FALSE
SUMMARY:Fall Festival
DESCRIPTION:Everyone is welcome to join us for a fun and free evening this fall! Free activities include: Baby Shower Raffle: Stroller\, Crib\, High Chair\, Car Seat\, Baby Bath Set & Diapers. Petting Zoo\, games\, music\, photo booth\, pumpkin decorating\, information from local agencies\, cotton candy\, and more! There will also be food trucks if you would like to purchase food while you're there!
X-ALT-DESC;FMTTYPE=text/html:Everyone is welcome to join us for a fun and free evening this fall! Free activities include: Baby Shower Raffle: Stroller\, Crib\, High Chair\, Car Seat\, Baby Bath Set &amp\; Diapers. Petting Zoo\, games\, music\, photo booth\, pumpkin decorating\, information from local agencies\, cotton candy\, and more! There will also be food trucks if you would like to purchase food while you&#39\;re there!
LOCATION:11700 Upper Gilchrist Rd. Mount Vernon\, OH 43050
UID:e.2893.8579
SEQUENCE:3
DTSTAMP:20260421T103555Z
URL:http://knoxchamber.smartcms.site/events/details/fall-festival-8579
END:VEVENT

END:VCALENDAR
