BEGIN:VCALENDAR
VERSION:2.0
PRODID:-//ChamberMaster//Event Calendar 2.0//EN
METHOD:PUBLISH
X-PUBLISHED-TTL:P3D
REFRESH-INTERVAL:P3D
CALSCALE:GREGORIAN
BEGIN:VEVENT
DTSTART:20180915T230000Z
DTEND:20180916T030000Z
X-MICROSOFT-CDO-ALLDAYEVENT:FALSE
SUMMARY:End of Summer Luau Party
DESCRIPTION:End of the Summer Luau Party at the Newly Opened  Moss Rose
X-ALT-DESC;FMTTYPE=text/html:End of the Summer Luau Party at the Newly Opened&nbsp\; Moss Rose
LOCATION:109 West Ohio Avenue\, Mount Vernon
UID:e.2893.3795
SEQUENCE:3
DTSTAMP:20260422T024129Z
URL:http://knoxchamber.smartcms.site/events/details/end-of-summer-luau-party-3795
END:VEVENT

END:VCALENDAR
