BEGIN:VCALENDAR
VERSION:2.0
PRODID:-//ChamberMaster//Event Calendar 2.0//EN
METHOD:PUBLISH
X-PUBLISHED-TTL:P3D
REFRESH-INTERVAL:P3D
CALSCALE:GREGORIAN
BEGIN:VEVENT
DTSTART:20200308T203000Z
DTEND:20200308T220000Z
X-MICROSOFT-CDO-ALLDAYEVENT:FALSE
SUMMARY:Enchanted Woodland Tea Party Psi Iota Xi
DESCRIPTION:Join Psi Iota Xi of Knox County for their Enchanted Woodland Tea Party.\n\n\n\nSoups\, teas\, sandwiches and pastries along with good times and great conversations can be expected!
X-ALT-DESC;FMTTYPE=text/html:Join Psi Iota Xi of Knox County for their Enchanted Woodland Tea Party.<br />\n<br />\nSoups\, teas\, sandwiches and pastries along with good times and great conversations can be expected!
LOCATION:Glenn A. Gallagher Centre\, 1451 Gambier Road
UID:e.2893.4729
SEQUENCE:3
DTSTAMP:20260420T201441Z
URL:http://knoxchamber.smartcms.site/events/details/enchanted-woodland-tea-party-psi-iota-xi-4729
END:VEVENT

END:VCALENDAR
