BEGIN:VCALENDAR
VERSION:2.0
PRODID:-//ChamberMaster//Event Calendar 2.0//EN
METHOD:PUBLISH
X-PUBLISHED-TTL:P3D
REFRESH-INTERVAL:P3D
CALSCALE:GREGORIAN
BEGIN:VEVENT
DTSTART:20171111T003000Z
DTEND:20171112T003000Z
X-MICROSOFT-CDO-ALLDAYEVENT:FALSE
SUMMARY:Elf The Musical JR.
DESCRIPTION:Mount Vernon City Schools will present Elf The Musical JR. on Friday and Saturday\, November 10 and 11 at 7:30 pm and Saturday\, November 11 at 3:00 pm in the Mount Vernon High School Theater. Tickets are $8.00. Elf The Musical JR. is an uplifting musical about one boy's quest to find his true identity. The story encourages each of us to approach each day with goodwill\, wonder\, and cheer.
X-ALT-DESC;FMTTYPE=text/html:Mount Vernon City Schools will present Elf The Musical JR. on Friday and Saturday\, November 10 and 11 at 7:30 pm and Saturday\, November 11 at 3:00 pm in the Mount Vernon High School Theater. Tickets are $8.00. Elf The Musical JR. is an uplifting musical about one boy&rsquo\;s quest to find his true identity. The story encourages each of us to approach each day with goodwill\, wonder\, and cheer.
LOCATION:Mount Vernon High School Theater
UID:e.2893.2511
SEQUENCE:3
DTSTAMP:20260422T193412Z
URL:http://knoxchamber.smartcms.site/events/details/elf-the-musical-jr-2511
END:VEVENT

END:VCALENDAR
