BEGIN:VCALENDAR
VERSION:2.0
PRODID:-//ChamberMaster//Event Calendar 2.0//EN
METHOD:PUBLISH
X-PUBLISHED-TTL:P3D
REFRESH-INTERVAL:P3D
CALSCALE:GREGORIAN
BEGIN:VEVENT
DTSTART:20180825T130000Z
DTEND:20180825T170000Z
X-MICROSOFT-CDO-ALLDAYEVENT:FALSE
SUMMARY:Electronic and Tire Special Collection Event
DESCRIPTION:Knox County's 2018 Electronic and Tire Special Collection Event will be held on August 25th from 9 am   1 pm at the Knox County Fairgrounds located at 125 Fairgrounds Rd. in Mt. Vernon.  This is sponsored by the DKMM Solid Waste District and is opened to all residents from Delaware\, Knox\, Marion and Morrow County only.\n\n \n\n	Tires 19" and under are $4 each\n	Tires larger than 19" will NOT be accepted\n	Televisions $20 each\n	Electronics are free\n	Cash or check only
X-ALT-DESC;FMTTYPE=text/html:Knox County&rsquo\;s 2018 Electronic and Tire Special Collection Event will be held on August 25<sup>th</sup> from 9 am &ndash\; 1 pm at the Knox County Fairgrounds located at 125 Fairgrounds Rd. in Mt. Vernon.&nbsp\; This is sponsored by the DKMM Solid Waste District and is opened to all residents from Delaware\, Knox\, Marion and Morrow County only.<br />\n&nbsp\;\n<ul>\n	<li>Tires 19&rdquo\; and under are $4 each</li>\n	<li>Tires larger than 19&rdquo\; will NOT be accepted</li>\n	<li>Televisions $20 each</li>\n	<li>Electronics are free</li>\n	<li>Cash or check only</li>\n</ul>\n&nbsp\;<br />\n&nbsp\;<br />\n&nbsp\;
LOCATION:Knox County Fairgrounds located at 125 Fairgrounds Rd. in Mt. Vernon
UID:e.2893.3635
SEQUENCE:3
DTSTAMP:20260422T043752Z
URL:http://knoxchamber.smartcms.site/events/details/electronic-and-tire-special-collection-event-3635
END:VEVENT

END:VCALENDAR
