BEGIN:VCALENDAR
VERSION:2.0
PRODID:-//ChamberMaster//Event Calendar 2.0//EN
METHOD:PUBLISH
X-PUBLISHED-TTL:P3D
REFRESH-INTERVAL:P3D
CALSCALE:GREGORIAN
BEGIN:VEVENT
DTSTART:20170423T120000Z
DTEND:20170423T160000Z
X-MICROSOFT-CDO-ALLDAYEVENT:FALSE
SUMMARY:Earth Day Challenge: Run
DESCRIPTION:Earth Day Challenge: Run a half marathon\, a 4-miler\, or just come to cheer on the runners.
X-ALT-DESC;FMTTYPE=text/html:<span style="color:#606060\;"><span style="font-family:arial\,sans-serif\;"><span style="font-size:10.0pt\;">Earth Day Challenge: Run a half marathon\, a 4-miler\, or just come to cheer on the runners.</span></span></span>
LOCATION:Kenyon Athletic Center\, 221 Duff Street
UID:e.2893.1279
SEQUENCE:3
DTSTAMP:20260423T093425Z
URL:http://knoxchamber.smartcms.site/events/details/earth-day-challenge-run-1279
END:VEVENT

END:VCALENDAR
