BEGIN:VCALENDAR
VERSION:2.0
PRODID:-//ChamberMaster//Event Calendar 2.0//EN
METHOD:PUBLISH
X-PUBLISHED-TTL:P3D
REFRESH-INTERVAL:P3D
CALSCALE:GREGORIAN
BEGIN:VEVENT
DTSTART:20180428T140000Z
DTEND:20180428T180000Z
X-MICROSOFT-CDO-ALLDAYEVENT:FALSE
SUMMARY:Drug Take Back Day
DESCRIPTION:Got Drugs?\n\nDrop them off.\n\nAnnual Spring Roundup\n\nCollecting unused or expired medications (NO LIQUIDS) \n\n\n\nFore more information\, please visit www.dea.gov.
X-ALT-DESC;FMTTYPE=text/html:<span style="font-size:36px\;"><span style="color:#0000CD\;">Got</span> <span style="color:#FF0000\;">Drugs?</span><br />\n<span style="font-size:18px\;">Drop them off.</span></span><br />\nAnnual Spring Roundup<br />\nCollecting unused or expired medications <span style="font-size:16px\;"><strong>(NO LIQUIDS)&nbsp\;</strong><br />\n<br />\nFore more information\, please visit www.dea.gov.&nbsp\;</span><br />\n&nbsp\;
LOCATION:Mount Vernon - Knox County Health Department Fredericktown - Police Station 182 South Main Street Centerburg - Foster's HealthMart Pharmacy Danville - Police Department\, Municipal Building on Market Street
UID:e.2893.2616
SEQUENCE:3
DTSTAMP:20260422T105936Z
URL:http://knoxchamber.smartcms.site/events/details/drug-take-back-day-2616
END:VEVENT

END:VCALENDAR
