BEGIN:VCALENDAR
VERSION:2.0
PRODID:-//ChamberMaster//Event Calendar 2.0//EN
METHOD:PUBLISH
X-PUBLISHED-TTL:P3D
REFRESH-INTERVAL:P3D
CALSCALE:GREGORIAN
BEGIN:VEVENT
DTSTART:20170429T140000Z
DTEND:20170429T180000Z
X-MICROSOFT-CDO-ALLDAYEVENT:FALSE
SUMMARY:Drug Take Back Day
DESCRIPTION:Drug Take Back Day
X-ALT-DESC;FMTTYPE=text/html:Drug Take Back Day<br>\n&nbsp\;
LOCATION:There are 4 locations: 1. Knox County Health Department 2. Centerburg Foster's Pharmacy 3. Fredericktown Police Department 4. Danville Police Department
UID:e.2893.1287
SEQUENCE:3
DTSTAMP:20260423T093615Z
URL:http://knoxchamber.smartcms.site/events/details/drug-take-back-day-1287
END:VEVENT

END:VCALENDAR
