BEGIN:VCALENDAR
VERSION:2.0
PRODID:-//ChamberMaster//Event Calendar 2.0//EN
METHOD:PUBLISH
X-PUBLISHED-TTL:P3D
REFRESH-INTERVAL:P3D
CALSCALE:GREGORIAN
BEGIN:VEVENT
DTSTART:20190427T140000Z
DTEND:20190427T180000Z
X-MICROSOFT-CDO-ALLDAYEVENT:FALSE
SUMMARY:Drug Take Back Day
DESCRIPTION:National Take-Back Day is a safe\, convenient\, and responsible way to dispose of unused or expired prescription drugs. Four locations will be available in Knox County: Danville Police Department Centerburg Foster's Pharmacy Knox County Heath Department Fredericktown Police Department You don't even have to get out of your car pull up to the drop off location where a volunteer and law enforcement will collect the unwanted drugs.
X-ALT-DESC;FMTTYPE=text/html:National Take-Back Day is a safe\, convenient\, and responsible way to dispose of unused or expired prescription drugs. Four locations will be available in Knox County: Danville Police Department Centerburg Foster&#39\;s Pharmacy Knox County Heath Department Fredericktown Police Department You don&#39\;t even have to get out of your car pull up to the drop off location where a volunteer and law enforcement will collect the unwanted drugs.
LOCATION:Danville Police Department Centerburg Foster's Pharmacy Knox County Heath Department Fredericktown Police Department
UID:e.2893.3878
SEQUENCE:3
DTSTAMP:20260421T164738Z
URL:http://knoxchamber.smartcms.site/events/details/drug-take-back-day-04-27-2019-3878
END:VEVENT

END:VCALENDAR
