BEGIN:VCALENDAR
VERSION:2.0
PRODID:-//ChamberMaster//Event Calendar 2.0//EN
METHOD:PUBLISH
X-PUBLISHED-TTL:P3D
REFRESH-INTERVAL:P3D
CALSCALE:GREGORIAN
BEGIN:VEVENT
DTSTART:20180612T113000Z
DTEND:20180612T133000Z
X-MICROSOFT-CDO-ALLDAYEVENT:FALSE
SUMMARY:Drug Free Workplace - The Employer's Role in Recovery
DESCRIPTION:TOPICS OF DISCUSSION 2nd Chance Agreements Impact on Bottom Line Drug Free Discounts   and more An employer seminar hosted by KSAAT\, partnering with the Knox County Chamber of Commerce\, Working Partners and the State Attorney Generals Office.
X-ALT-DESC;FMTTYPE=text/html:TOPICS OF DISCUSSION 2nd Chance Agreements Impact on Bottom Line Drug Free Discounts &hellip\; and more An employer seminar hosted by KSAAT\, partnering with the Knox County Chamber of Commerce\, Working Partners and the State Attorney Generals Office.
LOCATION:Round Room located in the Jetter School of Business on the campus of Mount Vernon Nazarene University 800 Martinsburg Road in Mount Vernon.
UID:e.2893.3638
SEQUENCE:3
DTSTAMP:20260422T075739Z
URL:http://knoxchamber.smartcms.site/events/details/drug-free-workplace-the-employer-s-role-in-recovery-3638
END:VEVENT

END:VCALENDAR
