BEGIN:VCALENDAR
VERSION:2.0
PRODID:-//ChamberMaster//Event Calendar 2.0//EN
METHOD:PUBLISH
X-PUBLISHED-TTL:P3D
REFRESH-INTERVAL:P3D
CALSCALE:GREGORIAN
BEGIN:VEVENT
DTSTART:20180928T220000Z
DTEND:20180929T030000Z
X-MICROSOFT-CDO-ALLDAYEVENT:FALSE
SUMMARY:Downtown Pub Crawl
DESCRIPTION:Join Main Street Mount Vernon for a fun\, adults-only night out on the town!  For only $20 per person\, your ticket gets you a complimentary Pub Crawl koozie\, drink specials\, live music\, and entry into giveaways!\n\n\n\nLine Up for the Night!\n\n6-7 P.M.     Amatos Woodfired Pizza\n\n7-8 P.M.     Flappers\n\n8-9 P.M.     Honey Buckets\n\n9-10 P.M.    Moss Rose\n\n10-11 P.M.   Stein Brewing Company\n\n\n\nMake sure you arrange a designated driver for the evening in advance!  Lyft drivers will also be avilabale through the Lyft app or Lyft Mount Vernon\, Ohio Facebook Group!\n\n\n\nDetails and Tickets for the event are available at the Main Street Mount Vernon office(201 South Main Street)\, or by going online to www.mainstreetmountvernon.com\n\n \nAll ticket proceeds benefit Main Street Mount Vernon\, a non-profit organization which strives to energize and strengthen our authentic and uniquely local downtown experience. For questions or for more information contact Carrie Hyman\, Executive Director\, at 740-393-1481.
X-ALT-DESC;FMTTYPE=text/html:Join <span style="color:#B22222\;"><em>Main Street Mount Vernon</em></span> for a fun\, adults-only night out on the town!&nbsp\; For only $20 per person\, your ticket gets you a complimentary Pub Crawl koozie\, drink specials\, live music\, and entry into giveaways!<br />\n<br />\n<u><strong>Line Up for the Night!</strong></u><br />\n6-7 P.M.&nbsp\; &nbsp\; &nbsp\;<span style="color:#B22222\;"><em>Amatos Woodfired Pizza</em></span><br />\n7-8 P.M.&nbsp\; &nbsp\; &nbsp\;<span style="color:#B22222\;"><em>Flappers</em></span><br />\n8-9 P.M.&nbsp\; &nbsp\;<span style="color:#B22222\;"><em>&nbsp\; Honey Buckets</em></span><br />\n9-10 P.M<em>.&nbsp\; &nbsp\; <span style="color:#B22222\;">Moss Rose</span></em><br />\n10-11 P.M.&nbsp\; &nbsp\;<span style="color:#B22222\;"><em>Stein Brewing Company</em></span><br />\n<br />\nMake sure you arrange a designated driver for the evening in advance!&nbsp\; Lyft drivers will also be avilabale through the Lyft app or Lyft Mount Vernon\, Ohio Facebook Group!<br />\n<br />\nDetails and Tickets for the event are available at the Main Street Mount Vernon office(201 South Main Street)\, or by going online to<a href="http://www.mainstreetmountvernon.com"> www.mainstreetmountvernon.com</a><br />\n&nbsp\;\n<p style="margin-top:0in\;margin-right:0in\;margin-bottom:8.0pt\;margin-left:0in"><span style="font-family:">All ticket proceeds benefit Main Street Mount Vernon\, a non-profit organization which strives to energize and strengthen our authentic and uniquely local downtown experience. For questions or for more information contact Carrie Hyman\, Executive Director\, at 740-393-1481.</span></p>\n
LOCATION:
UID:e.2893.3789
SEQUENCE:3
DTSTAMP:20260422T023646Z
URL:http://knoxchamber.smartcms.site/events/details/downtown-pub-crawl-3789
END:VEVENT

END:VCALENDAR
