BEGIN:VCALENDAR
VERSION:2.0
PRODID:-//ChamberMaster//Event Calendar 2.0//EN
METHOD:PUBLISH
X-PUBLISHED-TTL:P3D
REFRESH-INTERVAL:P3D
CALSCALE:GREGORIAN
BEGIN:VEVENT
DTSTART:20190928T150000Z
DTEND:20190928T160000Z
X-MICROSOFT-CDO-ALLDAYEVENT:FALSE
SUMMARY:Dog Walks in Mount Vernon
DESCRIPTION:Burt Hanson\,author of Dog Walks Around Mount Vernon\, and his dog Jack will be at Paragraphs. All proceeds from the sale of the booklet go to The Friends of the Knox County Animal Shelter.
X-ALT-DESC;FMTTYPE=text/html:Burt Hanson\,author of Dog Walks Around Mount Vernon\, and his dog Jack will be at Paragraphs. All proceeds from the sale of the booklet go to The Friends of the Knox County Animal Shelter.
LOCATION:Paragraphs Bookstore - 229 South Main Street\, Mount Vernon\, Ohio
UID:e.2893.4470
SEQUENCE:3
DTSTAMP:20260421T053511Z
URL:http://knoxchamber.smartcms.site/events/details/dog-walks-in-mount-vernon-4470
END:VEVENT

END:VCALENDAR
