BEGIN:VCALENDAR
VERSION:2.0
PRODID:-//ChamberMaster//Event Calendar 2.0//EN
METHOD:PUBLISH
X-PUBLISHED-TTL:P3D
REFRESH-INTERVAL:P3D
CALSCALE:GREGORIAN
BEGIN:VEVENT
DTSTART:20210924T233000Z
DTEND:20210926T180000Z
X-MICROSOFT-CDO-ALLDAYEVENT:FALSE
SUMMARY:Disney's Frozen JR
DESCRIPTION:Disney's enchanting modern classic presented by the artsIQ youth ages 13 to 18 will melt your heart. MTVarts production of Disney's Frozen JR. is based on the 2018 Broadway musical\, and brings Elsa\, Anna\, and the magical land of Arendelle to life\, onstage. The show features all of the memorable songs from the animated film\, with music and lyrics by Kristen Anderson-Lopez and Robert Lopez\, plus five new songs written for the Broadway production. A story of true love and acceptance between sisters\, Frozen JR. expands upon the emotional relationship and journey between Princesses Anna and Elsa. When faced with danger\, the two discover their hidden potential and the powerful bond of sisterhood. With a cast of beloved characters and loaded with magic\, adventure\, and plenty of humor\, Frozen JR. is sure to thaw even the coldest heart!
X-ALT-DESC;FMTTYPE=text/html:Disney&#39\;s enchanting modern classic presented by the artsIQ youth ages 13 to 18 will melt your heart. MTVarts production of Disney&#39\;s Frozen JR. is based on the 2018 Broadway musical\, and brings Elsa\, Anna\, and the magical land of Arendelle to life\, onstage. The show features all of the memorable songs from the animated film\, with music and lyrics by Kristen Anderson-Lopez and Robert Lopez\, plus five new songs written for the Broadway production. A story of true love and acceptance between sisters\, Frozen JR. expands upon the emotional relationship and journey between Princesses Anna and Elsa. When faced with danger\, the two discover their hidden potential and the powerful bond of sisterhood. With a cast of beloved characters and loaded with magic\, adventure\, and plenty of humor\, Frozen JR. is sure to thaw even the coldest heart!
LOCATION:Memorial Theater at the Knox Memorial Building
UID:e.2893.5002
SEQUENCE:3
DTSTAMP:20260419T144752Z
URL:http://knoxchamber.smartcms.site/events/details/disney-s-frozen-jr-5002
END:VEVENT

END:VCALENDAR
