BEGIN:VCALENDAR
VERSION:2.0
PRODID:-//ChamberMaster//Event Calendar 2.0//EN
METHOD:PUBLISH
X-PUBLISHED-TTL:P3D
REFRESH-INTERVAL:P3D
CALSCALE:GREGORIAN
BEGIN:VEVENT
DTSTART:20190813T220000Z
DTEND:20190814T020000Z
X-MICROSOFT-CDO-ALLDAYEVENT:FALSE
SUMMARY:Dinner and Drinks at the Mount Vernon Country Club
DESCRIPTION:Mount Vernon Country Club invites you to join them for a night of dinner and drinks on Tuesday\, August 13! This is a one night event where membership to the club is not required\, but reservations must be booked before hand. To reserve\, call 740-392-8101. Business Casual Attire is also required.\n\n\n\nClick Here to take a look at the menu!
X-ALT-DESC;FMTTYPE=text/html:<span style="color: rgb(28\, 30\, 33)\; font-family: Helvetica\, Arial\, sans-serif\; font-size: 14px\; background-color: rgb(255\, 255\, 255)\;">Mount Vernon Country Club invites you to join them for a night of dinner and drinks on Tuesday\, August 13! This is a one night event where membership to the club is not required\, but <em><strong>reservations must be booked before hand</strong></em>. To reserve\, call 740-392-8101. Business Casual Attire is also required.</span><br />\n<br />\n<a href="https://chambermaster.blob.core.windows.net/userfiles/UserFiles/chambers/2893/File/67488594_10156371495671629_7226333585630822400_n.jpg">Click Here</a> to take a look at the menu!
LOCATION:Mount Vernon Country Club\, 8927 Martinsburg Road\, Mount Vernon
UID:e.2893.4419
SEQUENCE:3
DTSTAMP:20260421T070742Z
URL:http://knoxchamber.smartcms.site/events/details/dinner-and-drinks-at-the-mount-vernon-country-club-4419
END:VEVENT

END:VCALENDAR
