BEGIN:VCALENDAR
VERSION:2.0
PRODID:-//ChamberMaster//Event Calendar 2.0//EN
METHOD:PUBLISH
X-PUBLISHED-TTL:P3D
REFRESH-INTERVAL:P3D
CALSCALE:GREGORIAN
BEGIN:VEVENT
DTSTART;VALUE=DATE:20161102
DTEND;VALUE=DATE:20161103
TRANSP:TRANSPARENT
X-MICROSOFT-CDO-ALLDAYEVENT:TRUE
SUMMARY:Dine With Docs
DESCRIPTION:More information to follow..
X-ALT-DESC;FMTTYPE=text/html:More information to follow..
LOCATION:
UID:e.2893.838
SEQUENCE:3
DTSTAMP:20260423T174859Z
URL:http://knoxchamber.smartcms.site/events/details/dine-with-docs-11-02-2016-838
END:VEVENT

END:VCALENDAR
