BEGIN:VCALENDAR
VERSION:2.0
PRODID:-//ChamberMaster//Event Calendar 2.0//EN
METHOD:PUBLISH
X-PUBLISHED-TTL:P3D
REFRESH-INTERVAL:P3D
CALSCALE:GREGORIAN
BEGIN:VEVENT
DTSTART:20170420T153000Z
DTEND:20170420T163000Z
X-MICROSOFT-CDO-ALLDAYEVENT:FALSE
SUMMARY:Digital Transformation Strategies by AT&T and Microsoft
DESCRIPTION:Thursday\, April 20 Digital Transformation Strategies by AT&T and Microsoft\n\n11:30 a.m.\, Presidential Banquet Center\, 4572 Presidential Way\, Kettering\, OH 45429
X-ALT-DESC;FMTTYPE=text/html:<p class="gdp" style="margin-top:9.75pt\;margin-right:0in\;margin-bottom:9.75pt\;\nmargin-left:0in\;line-height:13.5pt"><b><span style="font-size:10.5pt\;\nfont-family:&quot\;Arial&quot\;\,sans-serif\;color:#0A1A1F">Thursday\, April 20 </span></b><span style="font-size:10.5pt\;font-family:&quot\;Arial&quot\;\,sans-serif\;color:#0A1A1F"><a href="http://links.govdelivery.com:80/track?type=click&amp\;enid=ZWFzPTEmbWFpbGluZ2lkPTIwMTcwNDA0LjcxODkzMTExJm1lc3NhZ2VpZD1NREItUFJELUJVTC0yMDE3MDQwNC43MTg5MzExMSZkYXRhYmFzZWlkPTEwMDEmc2VyaWFsPTE3MTMxMzY1JmVtYWlsaWQ9cHJvZ3JhbXNAa25veGNoYW1iZXIuY29tJnVzZXJpZD1wcm9ncmFtc0Brbm94Y2hhbWJlci5jb20mZmw9JmV4dHJhPU11bHRpdmFyaWF0ZUlkPSYmJg==&amp\;&amp\;&amp\;125&amp\;&amp\;&amp\;https://technologyfirst.org/events-calendar/icalrepeat.detail/2017/04/20/103/58/tech-forum-digital-transformation-strategies-by-at-t-and-microsoft.html?utm_medium=email&amp\;utm_source=govdelivery"><b>Digital Transformation Strategies by AT&amp\;T and Microsoft</b></a><o:p></o:p></span></p>\n\n<p class="gdp" style="margin-top:9.75pt\;margin-right:0in\;margin-bottom:9.75pt\;\nmargin-left:0in\;line-height:13.5pt"><span style="font-size:10.5pt\;font-family:\n&quot\;Arial&quot\;\,sans-serif\;color:#0A1A1F">11:30 a.m.\, Presidential Banquet Center\, 4572 Presidential Way\, Kettering\, OH 45429<o:p></o:p></span></p>\n
LOCATION:
UID:e.2893.1361
SEQUENCE:3
DTSTAMP:20260423T093826Z
URL:http://knoxchamber.smartcms.site/events/details/digital-transformation-strategies-by-at-t-and-microsoft-1361
END:VEVENT

END:VCALENDAR
