BEGIN:VCALENDAR
VERSION:2.0
PRODID:-//ChamberMaster//Event Calendar 2.0//EN
METHOD:PUBLISH
X-PUBLISHED-TTL:P3D
REFRESH-INTERVAL:P3D
CALSCALE:GREGORIAN
BEGIN:VEVENT
DTSTART:20181101T223000Z
DTEND:20181102T003000Z
X-MICROSOFT-CDO-ALLDAYEVENT:FALSE
SUMMARY:Death and Dying Awareness and Education Series
DESCRIPTION:Facing Death Documentary & Discussion How far would you go to sustain the life of a loved one or your own? Examining the complicated reality of today's modern medicalized\, offering intimate encounters of encounters of patients facing the prospect of dying in a way never imagined. This is the first installment of a 7 month journey to help us all understand and explore death and dying. Come to one or all of these monthly discussion groups. Free and open to the public! This series is sponsored by Hospice of Knox County/Hospice North Central Ohio
X-ALT-DESC;FMTTYPE=text/html:Facing Death Documentary &amp\; Discussion How far would you go to sustain the life of a loved one or your own? Examining the complicated reality of today&#39\;s modern medicalized\, offering intimate encounters of encounters of patients facing the prospect of dying in a way never imagined. This is the first installment of a 7 month journey to help us all understand and explore death and dying. Come to one or all of these monthly discussion groups. Free and open to the public! This series is sponsored by Hospice of Knox County/Hospice North Central Ohio
LOCATION:Kokosing Nature Preserve Reception Center 10620 Quarry Chapel Road. Gambier\, Ohio 43022
UID:e.2893.3813
SEQUENCE:3
DTSTAMP:20260421T232256Z
URL:http://knoxchamber.smartcms.site/events/details/death-and-dying-awareness-and-education-series-3813
END:VEVENT

END:VCALENDAR
