BEGIN:VCALENDAR
VERSION:2.0
PRODID:-//ChamberMaster//Event Calendar 2.0//EN
METHOD:PUBLISH
X-PUBLISHED-TTL:P3D
REFRESH-INTERVAL:P3D
CALSCALE:GREGORIAN
BEGIN:VEVENT
DTSTART:20181206T233000Z
DTEND:20181207T013000Z
X-MICROSOFT-CDO-ALLDAYEVENT:FALSE
SUMMARY:Death and Dying Awareness and Education Series
DESCRIPTION:Advanced Directives and Beyond Offering an opportunity to put your end-of-life wishes in writing and learn more about the documents needed to communicate these wishes to surviving loved ones. This is the second installment of a 7 month journey to help us all understand and explore death and dying. Come to one or all of these monthly discussion groups. Free and open to the public! This series is sponsored by Hospice of Knox County/Hospice North Central Ohio
X-ALT-DESC;FMTTYPE=text/html:Advanced Directives and Beyond Offering an opportunity to put your end-of-life wishes in writing and learn more about the documents needed to communicate these wishes to surviving loved ones. This is the second installment of a 7 month journey to help us all understand and explore death and dying. Come to one or all of these monthly discussion groups. Free and open to the public! This series is sponsored by Hospice of Knox County/Hospice North Central Ohio
LOCATION:Kokosing Nature Preserve Reception Center 10620 Quarry Chapel Road. Gambier\, Ohio 43022
UID:e.2893.3814
SEQUENCE:3
DTSTAMP:20260421T213821Z
URL:http://knoxchamber.smartcms.site/events/details/death-and-dying-awareness-and-education-series-12-06-2018-3814
END:VEVENT

END:VCALENDAR
