BEGIN:VCALENDAR
VERSION:2.0
PRODID:-//ChamberMaster//Event Calendar 2.0//EN
METHOD:PUBLISH
X-PUBLISHED-TTL:P3D
REFRESH-INTERVAL:P3D
CALSCALE:GREGORIAN
BEGIN:VEVENT
DTSTART:20190425T223000Z
DTEND:20190426T003000Z
X-MICROSOFT-CDO-ALLDAYEVENT:FALSE
SUMMARY:Death and Dying Awareness and Education Series
DESCRIPTION:A Will for the Woods Documentary and Discussion Determined that his final resting place will benefit the earth\, musician and psychiatrist Clark Wang prepares for his home funeral and and green burial while battling lymphoma. This is the sixth installment of a 7 month journey to help us all understand and explore death and dying. Come to one or all of these monthly discussion groups. Free and open to the public! This series is sponsored by Hospice of Knox County/Hospice North Central Ohio
X-ALT-DESC;FMTTYPE=text/html:A Will for the Woods Documentary and Discussion Determined that his final resting place will benefit the earth\, musician and psychiatrist Clark Wang prepares for his home funeral and and green burial while battling lymphoma. This is the sixth installment of a 7 month journey to help us all understand and explore death and dying. Come to one or all of these monthly discussion groups. Free and open to the public! This series is sponsored by Hospice of Knox County/Hospice North Central Ohio
LOCATION:Kokosing Nature Preserve Reception Center 10620 Quarry Chapel Road. Gambier\, Ohio 43022
UID:e.2893.3818
SEQUENCE:3
DTSTAMP:20260421T152117Z
URL:http://knoxchamber.smartcms.site/events/details/death-and-dying-awareness-and-education-series-04-25-2019-3818
END:VEVENT

END:VCALENDAR
