BEGIN:VCALENDAR
VERSION:2.0
PRODID:-//ChamberMaster//Event Calendar 2.0//EN
METHOD:PUBLISH
X-PUBLISHED-TTL:P3D
REFRESH-INTERVAL:P3D
CALSCALE:GREGORIAN
BEGIN:VEVENT
DTSTART:20190124T233000Z
DTEND:20190125T013000Z
X-MICROSOFT-CDO-ALLDAYEVENT:FALSE
SUMMARY:Death and Dying Awareness and Education Series
DESCRIPTION:Being Mortal-Documentary and Discussion Surgeon Atul Gawande explores the practice of caring for the dying and shows how untrained and un-comfortable doctors are talking with their patients about chronic illness and death. This is the third installment of a 7 month journey to help us all understand and explore death and dying. Come to one or all of these monthly discussion groups. Free and open to the public! This series is sponsored by Hospice of Knox County/Hospice North Central Ohio
X-ALT-DESC;FMTTYPE=text/html:Being Mortal-Documentary and Discussion Surgeon Atul Gawande explores the practice of caring for the dying and shows how untrained and un-comfortable doctors are talking with their patients about chronic illness and death. This is the third installment of a 7 month journey to help us all understand and explore death and dying. Come to one or all of these monthly discussion groups. Free and open to the public! This series is sponsored by Hospice of Knox County/Hospice North Central Ohio
LOCATION:Kokosing Nature Preserve Reception Center 10620 Quarry Chapel Road. Gambier\, Ohio 43022
UID:e.2893.3815
SEQUENCE:3
DTSTAMP:20260421T200328Z
URL:http://knoxchamber.smartcms.site/events/details/death-and-dying-awareness-and-education-series-01-24-2019-3815
END:VEVENT

END:VCALENDAR
