BEGIN:VCALENDAR
VERSION:2.0
PRODID:-//ChamberMaster//Event Calendar 2.0//EN
METHOD:PUBLISH
X-PUBLISHED-TTL:P3D
REFRESH-INTERVAL:P3D
CALSCALE:GREGORIAN
BEGIN:VEVENT
DTSTART:20210507T130000Z
DTEND:20210508T010000Z
X-MICROSOFT-CDO-ALLDAYEVENT:FALSE
SUMMARY:Deans Jewelry: Trunk Show
DESCRIPTION:Call for details.
X-ALT-DESC;FMTTYPE=text/html:Call for details.
LOCATION:
UID:e.2893.4873
SEQUENCE:3
DTSTAMP:20260419T230039Z
URL:http://knoxchamber.smartcms.site/events/details/deans-jewelry-trunk-show-4873
END:VEVENT

END:VCALENDAR
