BEGIN:VCALENDAR
VERSION:2.0
PRODID:-//ChamberMaster//Event Calendar 2.0//EN
METHOD:PUBLISH
X-PUBLISHED-TTL:P3D
REFRESH-INTERVAL:P3D
CALSCALE:GREGORIAN
BEGIN:VEVENT
DTSTART;VALUE=DATE:20191119
DTEND;VALUE=DATE:20191120
TRANSP:TRANSPARENT
X-MICROSOFT-CDO-ALLDAYEVENT:TRUE
SUMMARY:Dean's Jewelry LeVian Event
DESCRIPTION:Dean's Jewelry's one day only event will feature the largest collection of Chocolate Diamonds & Exotic Colored Gemstones. They invite you to join them for this spectacular event as they explore the newest trend setting looks and discover the legend of LeVian\, a bejeweled saga that spans from ancient royalty to today's red carpet.\n\n\n\nCheck out a sneak speak of the collection by visiting https://www.deansjewelry.com/designers/le-vian/
X-ALT-DESC;FMTTYPE=text/html:<span style="color: rgb(29\, 33\, 41)\; font-family: Helvetica\, Arial\, sans-serif\; font-size: 14px\; white-space: pre-wrap\; background-color: rgb(255\, 255\, 255)\;">Dean&#39\;s Jewelry&#39\;s one day only event will feature the largest collection of Chocolate Diamonds &amp\; Exotic Colored Gemstones. They invite you to join them for this spectacular event as they explore the newest trend setting looks and discover the legend of LeVian\, a bejeweled saga that spans from ancient royalty to today&#39\;s red carpet.</span><br />\n<br />\nCheck out a sneak speak of the collection by visiting<a href="https://www.deansjewelry.com/designers/le-vian/">&nbsp\;https://www.deansjewelry.com/designers/le-vian/</a>
LOCATION:Dean's Jewelry\,
UID:e.2893.4675
SEQUENCE:3
DTSTAMP:20260421T023717Z
URL:http://knoxchamber.smartcms.site/events/details/dean-s-jewelry-levian-event-4675
END:VEVENT

END:VCALENDAR
