BEGIN:VCALENDAR
VERSION:2.0
PRODID:-//ChamberMaster//Event Calendar 2.0//EN
METHOD:PUBLISH
X-PUBLISHED-TTL:P3D
REFRESH-INTERVAL:P3D
CALSCALE:GREGORIAN
BEGIN:VEVENT
DTSTART:20170321T133000Z
DTEND:20170321T190000Z
X-MICROSOFT-CDO-ALLDAYEVENT:FALSE
SUMMARY:Day of Learning
DESCRIPTION:Day of Learning is a time for people to gather together to share their experiences and learn with others who are on the same path in the DD Community. The gathering is not agency driven. It is people driven\; where all are welcome and appreciated for the personal expertise they bring to the group. Although you may see some of the same people facilitating group conversations\, they do not pretend to be experts who just want to share their wisdom\; rather\, they are people who are on a journey of continual learning. The Day of Learning is free\, but we do ask that you register. CPD units will be available to those who attend for the full day. We look forward to seeing you (and some of your friends) there!!!
X-ALT-DESC;FMTTYPE=text/html:Day of Learning is a time for people to gather together to share their experiences and learn with others who are on the same path in the DD Community. The gathering is not agency driven. It is people driven\; where all are welcome and appreciated for the personal expertise they bring to the group. Although you may see some of the same people facilitating group conversations\, they do not pretend to be experts who just want to share their wisdom\; rather\, they are people who are on a journey of continual learning. The Day of Learning is free\, but we do ask that you register. CPD units will be available to those who attend for the full day. We look forward to seeing you (and some of your friends) there!!!
LOCATION:9900 Brick Church Rd\, Cambridge OH
UID:e.2893.1276
SEQUENCE:3
DTSTAMP:20260423T112058Z
URL:http://knoxchamber.smartcms.site/events/details/day-of-learning-1276
END:VEVENT

END:VCALENDAR
