BEGIN:VCALENDAR
VERSION:2.0
PRODID:-//ChamberMaster//Event Calendar 2.0//EN
METHOD:PUBLISH
X-PUBLISHED-TTL:P3D
REFRESH-INTERVAL:P3D
CALSCALE:GREGORIAN
BEGIN:VEVENT
DTSTART:20210507T210000Z
DTEND:20210508T010000Z
X-MICROSOFT-CDO-ALLDAYEVENT:FALSE
SUMMARY:Danville's Ladies Night Out
DESCRIPTION:Join us for Danville's Ladies Night Out. Local businesses open late\, Live entertainment\, Food trucks\, door prizes\, games\, and more! EVERYONE IS WELCOME!
X-ALT-DESC;FMTTYPE=text/html:Join us for Danville&#39\;s Ladies Night Out. Local businesses open late\, Live entertainment\, Food trucks\, door prizes\, games\, and more! EVERYONE IS WELCOME!
LOCATION:Danville
UID:e.2893.4843
SEQUENCE:3
DTSTAMP:20260419T211833Z
URL:http://knoxchamber.smartcms.site/events/details/danville-s-ladies-night-out-4843
END:VEVENT

END:VCALENDAR
