BEGIN:VCALENDAR
VERSION:2.0
PRODID:-//ChamberMaster//Event Calendar 2.0//EN
METHOD:PUBLISH
X-PUBLISHED-TTL:P3D
REFRESH-INTERVAL:P3D
CALSCALE:GREGORIAN
BEGIN:VEVENT
DTSTART:20180511T210000Z
DTEND:20180512T010000Z
X-MICROSOFT-CDO-ALLDAYEVENT:FALSE
SUMMARY:Danville Ladies Night Out
DESCRIPTION:A celebration of mothers and daughters! 40+ businesses & restaurants ope 'til 8 pm. Door prizes\, sampling and games\; live music at multiple locations\; pick up event maps\, schedules at participating businesses. Enter your chance to play one of America's favorite game shows to win great door prizes at 8:30 pm. Limited ATV shuttle service available. See us on Facebook
X-ALT-DESC;FMTTYPE=text/html:A celebration of mothers and daughters! 40+ businesses &amp\; restaurants ope &#39\;til 8 pm. Door prizes\, sampling and games\; live music at multiple locations\; pick up event maps\, schedules at participating businesses. Enter your chance to play one of America&#39\;s favorite game shows to win great door prizes at 8:30 pm. Limited ATV shuttle service available. See us on Facebook
LOCATION:Danville
UID:e.2893.3632
SEQUENCE:3
DTSTAMP:20260422T092621Z
URL:http://knoxchamber.smartcms.site/events/details/danville-ladies-night-out-3632
END:VEVENT

END:VCALENDAR
