BEGIN:VCALENDAR
VERSION:2.0
PRODID:-//ChamberMaster//Event Calendar 2.0//EN
METHOD:PUBLISH
X-PUBLISHED-TTL:P3D
REFRESH-INTERVAL:P3D
CALSCALE:GREGORIAN
BEGIN:VEVENT
DTSTART;VALUE=DATE:20190811
DTEND;VALUE=DATE:20190812
TRANSP:TRANSPARENT
X-MICROSOFT-CDO-ALLDAYEVENT:TRUE
SUMMARY:Dan Emmett Music & Arts Festival
DESCRIPTION:The annual Dan Emmett Music & Arts Festival is the premier event of the year in Downtown Mount Vernon. It encapsulates everything good about Daniel Decatur Emmett and the community's musical heritage. It is the "flagship" marketing activity where Mount Vernon (particularly downtown) is "on display" to the world. Our previous Festivals have been tremendous successes with over 20\,000 people attending annually.\n\n\n\nSunday\, August 11 Schedule:\n\n\n\n11 am - 4 pm  Dan Emmett Flower Show\n\nNoon - 4  pm WNZR/WQIO Live Broadcast \n\n \n\n \n\nOn the Square\n\n9 am Grace Community Church\n\n10 am Worship Service\n\n10 am - 4:30 pm Car & Motorcycle Show & Cruise-In \n\n\n\n Community Showcase Stage\n\n11:00 am Sgt. Pepper (Beatles Tribute Band)\n\nNoon Shuman Band \n\n1:00 pm Elvis's Lost Brother\n\n2:30 pm Car & Motorcycle Show Awards  \n\n \n\nSouth Stage   \n\n11:30 pm StringBuskers\n\n1:00 pm Jamee Hershberger\n\n2:00 pm Desmond Wall  \n\n 4:30 pm             FESTIVAL ENDS
X-ALT-DESC;FMTTYPE=text/html:<span style="color: rgb(28\, 30\, 33)\; font-family: Helvetica\, Arial\, sans-serif\; font-size: 12px\; background-color: rgb(255\, 255\, 255)\;">The annual Dan Emmett Music &amp\; Arts Festival is the premier event of the year in Downtown Mount Vernon. It encapsulates everything good about Daniel Decatur Emme</span><span class="text_exposed_show" style="display: inline\; font-family: Helvetica\, Arial\, sans-serif\; color: rgb(28\, 30\, 33)\; font-size: 12px\; background-color: rgb(255\, 255\, 255)\;">tt and the community&rsquo\;s musical heritage. It is the &ldquo\;flagship&rdquo\; marketing activity where Mount Vernon (particularly downtown) is &ldquo\;on display&rdquo\; to the world. Our previous Festivals have been tremendous successes with over 20\,000 people attending annually.</span><br />\n<br />\nSunday\, August 11 Schedule:<br />\n<br />\n<strong>11 am - 4 pm&nbsp\; Dan Emmett Flower Show<br />\nNoon - 4&nbsp\; pm WNZR/WQIO Live Broadcast&nbsp\;</strong><br />\n&nbsp\;<br />\n&nbsp\;<br />\n<u><strong>On the Square</strong></u><br />\n9 am Grace Community Church<br />\n10 am Worship Service<br />\n10 am - 4:30 pm Car &amp\; Motorcycle Show &amp\; Cruise-In&nbsp\;<br />\n<br />\n<u><strong>&nbsp\;Community Showcase Stage</strong></u><br />\n11:00 am Sgt. Pepper (Beatles Tribute Band)<br />\nNoon Shuman Band&nbsp\;<br />\n1:00 pm Elvis&rsquo\;s Lost Brother<br />\n2:30 pm Car &amp\; Motorcycle Show Awards&nbsp\;&nbsp\;<br />\n&nbsp\;<br />\n<u><strong>South Stage</strong></u>&nbsp\; &nbsp\;<br />\n11:30 pm StringBuskers<br />\n1:00 pm Jamee Hershberger<br />\n2:00 pm Desmond Wall&nbsp\;&nbsp\;<br />\n<strong>&nbsp\;4:30 pm&nbsp\; &nbsp\; &nbsp\; &nbsp\; &nbsp\; &nbsp\; &nbsp\;FESTIVAL ENDS&nbsp\;</strong>
LOCATION:Downtown Mount Vernon
UID:e.2893.4423
SEQUENCE:3
DTSTAMP:20260421T071329Z
URL:http://knoxchamber.smartcms.site/events/details/dan-emmett-music-arts-festival-4423
END:VEVENT

END:VCALENDAR
