BEGIN:VCALENDAR
VERSION:2.0
PRODID:-//ChamberMaster//Event Calendar 2.0//EN
METHOD:PUBLISH
X-PUBLISHED-TTL:P3D
REFRESH-INTERVAL:P3D
CALSCALE:GREGORIAN
BEGIN:VEVENT
DTSTART;VALUE=DATE:20190810
DTEND;VALUE=DATE:20190811
TRANSP:TRANSPARENT
X-MICROSOFT-CDO-ALLDAYEVENT:TRUE
SUMMARY:Dan Emmett Music & Arts Festival
DESCRIPTION:The annual Dan Emmett Music & Arts Festival is the premier event of the year in Downtown Mount Vernon. It encapsulates everything good about Daniel Decatur Emmett and the community's musical heritage. It is the "flagship" marketing activity where Mount Vernon (particularly downtown) is "on display" to the world. Our previous Festivals have been tremendous successes with over 20\,000 people attending annually.\n\n\n\nSaturday\, August 10 Schedule:\n\n\n\n Opens at 11am Arts\, Crafts & Trades Show\n\n11 am - 8 pm Dan Emmett Flower Show\n\nNoon - 10pm WNZR Live Broadcast\n\n12 - 9 pm  WMVO/WQIO Live Broadcast \n\n \n\nThe Kid Zone Near Paragraphs' Bookstore\n\n4pm-8pm  Bounce Houses\n\nNoon 4pm Face Painting \n\n4pm 8pm Superheroes \n\n6pm 7:30pm Author Kerry Winfrey \n\n \n\nInside The Woodward Opera House\n\n1:00 pm  Carol Dance Studio\n\n2:00 pm  Muwendo Children's Choir\n\n3:00 pm  Bradford Academy of Dance\n\n4:00 pm  Tavaci Summer Camp \n\n \n\nSouth Stage\n\nNoon  Muwendo Children's Choir\n\n1:00 pm  Youth Showcase\n\n2:00 pm  Alex Jarosz\n\n2:30 pm   Leslie Bell\n\n3:00 pm  Megan Campbell\n\n3:30 pm  Youth Choirs \n\n4:30 pm   TBD\n\n5:30 pm  Ukulele Club\n\n6:00 pm  Dogwood Blossoms\n\n6:30 pm  Ryan Bandy \n\n \n\nMain Stage \n\n10:00 am  Old-Time Fiddle Contest Registration\n\n11:00 am  Oldtime Fiddle Contest\n\n3:00 pm  February Star\n\n6:30 pm  Derek Posey Band \n\n8:00 pm  Emmett Award           \n\n8:30 pm  Lee Greenwood
X-ALT-DESC;FMTTYPE=text/html:<span style="color: rgb(28\, 30\, 33)\; font-family: Helvetica\, Arial\, sans-serif\; font-size: 12px\; background-color: rgb(255\, 255\, 255)\;">The annual Dan Emmett Music &amp\; Arts Festival is the premier event of the year in Downtown Mount Vernon. It encapsulates everything good about Daniel Decatur Emme</span><span class="text_exposed_show" style="display: inline\; font-family: Helvetica\, Arial\, sans-serif\; color: rgb(28\, 30\, 33)\; font-size: 12px\; background-color: rgb(255\, 255\, 255)\;">tt and the community&rsquo\;s musical heritage. It is the &ldquo\;flagship&rdquo\; marketing activity where Mount Vernon (particularly downtown) is &ldquo\;on display&rdquo\; to the world. Our previous Festivals have been tremendous successes with over 20\,000 people attending annually.</span><br />\n<br />\nSaturday\, August 10 Schedule:<br />\n<br />\n<strong>&nbsp\;Opens at 11am Arts\, Crafts &amp\; Trades Show<br />\n11 am - 8 pm Dan Emmett Flower Show<br />\nNoon - 10pm WNZR Live Broadcast<br />\n12 - 9 pm&nbsp\; WMVO/WQIO Live Broadcast&nbsp\;</strong><br />\n&nbsp\;<br />\n<u><strong>The Kid Zone&mdash\;Near Paragraphs&rsquo\; Bookstore</strong></u><br />\n4pm-8pm&nbsp\; Bounce Houses<br />\nNoon&mdash\;4pm Face Painting&nbsp\;<br />\n4pm&mdash\;8pm Superheroes&nbsp\;<br />\n6pm&mdash\;7:30pm Author Kerry Winfrey&nbsp\;<br />\n&nbsp\;<br />\n<u><strong>Inside The Woodward Opera House</strong></u><br />\n1:00 pm&nbsp\; Carol Dance Studio<br />\n2:00 pm&nbsp\; Muwendo Children&rsquo\;s Choir<br />\n3:00 pm&nbsp\; Bradford Academy of Dance<br />\n4:00 pm&nbsp\; Tavaci&mdash\;Summer Camp&nbsp\;<br />\n&nbsp\;<br />\n<strong><u>South Stage</u></strong><br />\nNoon&nbsp\; Muwendo Children&rsquo\;s Choir<br />\n1:00 pm&nbsp\; Youth Showcase<br />\n2:00 pm&nbsp\; Alex Jarosz<br />\n2:30 pm&nbsp\; &nbsp\;Leslie Bell<br />\n3:00 pm&nbsp\; Megan Campbell<br />\n3:30 pm&nbsp\; Youth Choirs&nbsp\;<br />\n4:30 pm&nbsp\; &nbsp\;TBD<br />\n5:30 pm&nbsp\; Ukulele Club<br />\n6:00 pm&nbsp\; Dogwood Blossoms<br />\n6:30 pm&nbsp\; Ryan Bandy&nbsp\;<br />\n&nbsp\;<br />\n<u><strong>Main Stage </strong></u><br />\n10:00 am&nbsp\; Old-Time Fiddle Contest Registration<br />\n11:00 am&nbsp\; Oldtime Fiddle Contest<br />\n3:00 pm&nbsp\; February Star<br />\n6:30 pm&nbsp\; Derek Posey Band&nbsp\;<br />\n8:00 pm&nbsp\; Emmett Award&nbsp\; &nbsp\; &nbsp\; &nbsp\; &nbsp\; &nbsp\;<br />\n<strong>8:30 pm&nbsp\; Lee Greenwood&nbsp\;</strong><br />\n<br />\n&nbsp\;<br />\n&nbsp\;
LOCATION:Downtown Mount Vernon
UID:e.2893.4422
SEQUENCE:3
DTSTAMP:20260421T071402Z
URL:http://knoxchamber.smartcms.site/events/details/dan-emmett-music-arts-festival-4422
END:VEVENT

END:VCALENDAR
