BEGIN:VCALENDAR
VERSION:2.0
PRODID:-//ChamberMaster//Event Calendar 2.0//EN
METHOD:PUBLISH
X-PUBLISHED-TTL:P3D
REFRESH-INTERVAL:P3D
CALSCALE:GREGORIAN
BEGIN:VEVENT
DTSTART;VALUE=DATE:20190809
DTEND;VALUE=DATE:20190810
TRANSP:TRANSPARENT
X-MICROSOFT-CDO-ALLDAYEVENT:TRUE
SUMMARY:Dan Emmett Music & Arts Festival
DESCRIPTION:The annual Dan Emmett Music & Arts Festival is the premier event of the year in Downtown Mount Vernon. It encapsulates everything good about Daniel Decatur Emmett and the community's musical heritage. It is the "flagship" marketing activity where Mount Vernon (particularly downtown) is "on display" to the world. Our previous Festivals have been tremendous successes with over 20\,000 people attending annually.\n\n\n\nFriday\, August 9 Schedule:\n\n\n\nOpens at 11am Arts\, Crafts & Trades Show\n\n4 pm - 9 pm WNZR Live Broadcast\n\n4 pm - 6 pm WQIO Live Broadcast\n\n4 pm - 8 pm Dan Emmett Flower Show \n\n \n\nThe Kid Zone Near Paragraphs' Bookstore\n\n4pm-8pm  Bounce Houses\n\nNoon 3pm Face Painting \n\n4pm 8pm The Ice Sisters\n\n4pm 8pm Superheroes  \n\n \n\nCommunity Showcase Stage\n\n12:00 pm  Alliya Ballenger   \n\n12:30 pm  Paige Stover\n\n1:00 pm  Max Wolfe\n\n1:30 pm  Lacey Blubaugh\n\n2:00 pm  Emma Buehrer\n\n2:30 pm  TBD\n\n3:00 pm  Diane Dingler \n\n\n\n South Stage \n\nNoon  Youth Showcase \n\n2:00 pm  Rachel Rinehart & Lilly Buckley  3:00 p\n\nm  Sarah Goslee Reed\n\n4:30 pm  Lashley Training\n\n5:30 pm  TaVaci \n\n6:30 pm  Chestnut Ridge \n\n \n\nMain Stage   \n\n6:00 pm  Knox County Jazz Orchestra \n\n7:00 pm  MVHS Marching Band\n\n8:30 pm  Madrigal
X-ALT-DESC;FMTTYPE=text/html:<span style="color: rgb(28\, 30\, 33)\; font-family: Helvetica\, Arial\, sans-serif\; font-size: 12px\; background-color: rgb(255\, 255\, 255)\;">The annual Dan Emmett Music &amp\; Arts Festival is the premier event of the year in Downtown Mount Vernon. It encapsulates everything good about Daniel Decatur Emme</span><span class="text_exposed_show" style="display: inline\; font-family: Helvetica\, Arial\, sans-serif\; color: rgb(28\, 30\, 33)\; font-size: 12px\; background-color: rgb(255\, 255\, 255)\;">tt and the community&rsquo\;s musical heritage. It is the &ldquo\;flagship&rdquo\; marketing activity where Mount Vernon (particularly downtown) is &ldquo\;on display&rdquo\; to the world. Our previous Festivals have been tremendous successes with over 20\,000 people attending annually.</span><br />\n<br />\nFriday\, August 9 Schedule:<br />\n<br />\n<strong>Opens at 11am Arts\, Crafts &amp\; Trades Show<br />\n4 pm - 9 pm WNZR Live Broadcast<br />\n4 pm - 6 pm WQIO Live Broadcast<br />\n4 pm - 8 pm Dan Emmett Flower Show&nbsp\;</strong><br />\n&nbsp\;<br />\n<u><strong>The Kid Zone&mdash\;Near Paragraphs&rsquo\; Bookstore</strong></u><br />\n4pm-8pm&nbsp\; Bounce Houses<br />\nNoon&mdash\;3pm Face Painting&nbsp\;<br />\n4pm&mdash\;8pm The Ice Sisters<br />\n4pm&mdash\;8pm Superheroes&nbsp\;&nbsp\;<br />\n&nbsp\;<br />\n<u><strong>Community Showcase Stage</strong></u><br />\n12:00 pm&nbsp\; Alliya Ballenger&nbsp\; &nbsp\;<br />\n12:30 pm&nbsp\; Paige Stover<br />\n1:00 pm&nbsp\; Max Wolfe<br />\n1:30 pm&nbsp\; Lacey Blubaugh<br />\n2:00 pm&nbsp\; Emma Buehrer<br />\n2:30 pm&nbsp\; TBD<br />\n3:00 pm&nbsp\; Diane Dingler&nbsp\;<br />\n<br />\n&nbsp\;<u><strong>South Stage </strong></u><br />\nNoon&nbsp\; Youth Showcase&nbsp\;<br />\n2:00 pm&nbsp\; Rachel Rinehart &amp\; Lilly Buckley&nbsp\; 3:00 p<br />\nm&nbsp\; Sarah Goslee Reed<br />\n4:30 pm&nbsp\; Lashley Training<br />\n5:30 pm&nbsp\; TaVaci&nbsp\;<br />\n6:30 pm&nbsp\; Chestnut Ridge&nbsp\;<br />\n&nbsp\;<br />\n<u><strong>Main Stage</strong></u>&nbsp\; &nbsp\;<br />\n6:00 pm&nbsp\; Knox County Jazz Orchestra&nbsp\;<br />\n7:00 pm&nbsp\; MVHS Marching Band<br />\n8:30 pm&nbsp\; Madrigal&nbsp\;<br />\n&nbsp\;<br />\n&nbsp\;
LOCATION:Downtown Mount Vernon
UID:e.2893.4421
SEQUENCE:3
DTSTAMP:20260421T104041Z
URL:http://knoxchamber.smartcms.site/events/details/dan-emmett-music-arts-festival-4421
END:VEVENT

END:VCALENDAR
