BEGIN:VCALENDAR
VERSION:2.0
PRODID:-//ChamberMaster//Event Calendar 2.0//EN
METHOD:PUBLISH
X-PUBLISHED-TTL:P3D
REFRESH-INTERVAL:P3D
CALSCALE:GREGORIAN
BEGIN:VEVENT
DTSTART;VALUE=DATE:20190808
DTEND;VALUE=DATE:20190809
TRANSP:TRANSPARENT
X-MICROSOFT-CDO-ALLDAYEVENT:TRUE
SUMMARY:Dan Emmett Music & Arts Festival
DESCRIPTION:The annual Dan Emmett Music & Arts Festival is the premier event of the year in Downtown Mount Vernon. It encapsulates everything good about Daniel Decatur Emmett and the community's musical heritage. It is the "flagship" marketing activity where Mount Vernon (particularly downtown) is "on display" to the world. Our previous Festivals have been tremendous successes with over 20\,000 people attending annually.\n\n\n\nThursday\, August 8 Schedule:\n\n \n\nOpens at 11am Arts\, Crafts & Trades Show\n\n4 pm - 9 pm WNZR Live Broadcast   \n\n\n\nCommunity Showcase Stage \n\n12:00 pm  Shelby Colopy   \n\n12:30 pm  Corinne Eutsey\n\n1:00 pm   Malaya Sherman\n\n1:30 pm  Ciel Leach\n\n2:00 pm  Lydia Luna \n\n \n\nSouth Stage\n\nNoon - 2 pm Youth Showcase   \n\n2 pm - 3 pm TBD \n\n5:00 pm  TaVaci Summer Camp\n\n5:30 pm  TaVaci Elites \n\n6:00 pm  Cheer Competition \n\n \n\nMain Stage   \n\n6:30 pm  Six Miles to Nellie\n\n8:00 pm  Dan Emmett Unsung Hero Award\n\n8:30 pm  Phil Dirt & the Dozers \n\n \n\nThe Kid Zone Near Paragraphs' Bookstore\n\n4pm-8pm  Bounce Houses
X-ALT-DESC;FMTTYPE=text/html:<span style="color: rgb(28\, 30\, 33)\; font-family: Helvetica\, Arial\, sans-serif\; font-size: 12px\; background-color: rgb(255\, 255\, 255)\;">The annual Dan Emmett Music &amp\; Arts Festival is the premier event of the year in Downtown Mount Vernon. It encapsulates everything good about Daniel Decatur Emme</span><span class="text_exposed_show" style="display: inline\; font-family: Helvetica\, Arial\, sans-serif\; color: rgb(28\, 30\, 33)\; font-size: 12px\; background-color: rgb(255\, 255\, 255)\;">tt and the community&rsquo\;s musical heritage. It is the &ldquo\;flagship&rdquo\; marketing activity where Mount Vernon (particularly downtown) is &ldquo\;on display&rdquo\; to the world. Our previous Festivals have been tremendous successes with over 20\,000 people attending annually.</span><br />\n<br />\nThursday\, August 8 Schedule:<br />\n&nbsp\;<br />\n<strong>Opens at 11am Arts\, Crafts &amp\; Trades Show<br />\n4 pm - 9 pm WNZR Live Broadcast&nbsp\;</strong> &nbsp\;<br />\n<br />\n<u><strong>Community Showcase Stage </strong></u><br />\n12:00 pm&nbsp\; Shelby Colopy&nbsp\; &nbsp\;<br />\n12:30 pm&nbsp\; Corinne Eutsey<br />\n1:00 pm&nbsp\; &nbsp\;Malaya Sherman<br />\n1:30 pm&nbsp\; Ciel Leach<br />\n2:00 pm&nbsp\; Lydia Luna&nbsp\;<br />\n&nbsp\;<br />\n<u><strong>South Stage</strong></u><br />\nNoon - 2 pm Youth Showcase&nbsp\; &nbsp\;<br />\n2 pm - 3 pm TBD&nbsp\;<br />\n5:00 pm&nbsp\; TaVaci&mdash\;Summer Camp<br />\n5:30 pm&nbsp\; TaVaci Elites&nbsp\;<br />\n6:00 pm&nbsp\; Cheer Competition&nbsp\;<br />\n&nbsp\;<br />\n<u><strong>Main Stage</strong></u>&nbsp\; &nbsp\;<br />\n6:30 pm&nbsp\; Six Miles to Nellie<br />\n8:00 pm&nbsp\; Dan Emmett Unsung Hero Award<br />\n8:30 pm&nbsp\; Phil Dirt &amp\; the Dozers&nbsp\;<br />\n&nbsp\;<br />\n<strong><u>The Kid Zone&mdash\;Near Paragraphs&rsquo\; Bookstore</u></strong><br />\n4pm-8pm&nbsp\; Bounce Houses&nbsp\;
LOCATION:Downtown Mount Vernon
UID:e.2893.4420
SEQUENCE:3
DTSTAMP:20260421T071246Z
URL:http://knoxchamber.smartcms.site/events/details/dan-emmett-music-arts-festival-4420
END:VEVENT

END:VCALENDAR
