BEGIN:VCALENDAR
VERSION:2.0
PRODID:-//ChamberMaster//Event Calendar 2.0//EN
METHOD:PUBLISH
X-PUBLISHED-TTL:P3D
REFRESH-INTERVAL:P3D
CALSCALE:GREGORIAN
BEGIN:VEVENT
DTSTART:20170121T150000Z
DTEND:20170122T030000Z
X-MICROSOFT-CDO-ALLDAYEVENT:FALSE
SUMMARY:Customer Appreciation Day
DESCRIPTION:To thank all our loyal customers and friends we will offer everything at 1/2 price from open to close on Jan 21st.
X-ALT-DESC;FMTTYPE=text/html:To thank all our loyal customers and friends we will offer everything at 1/2 price from open to close on Jan 21st.
LOCATION:DQ Grill & Chill 1600 Coshocton Ave Mount Vernon\, Ohio
UID:e.2893.1243
SEQUENCE:3
DTSTAMP:20260423T143008Z
URL:http://knoxchamber.smartcms.site/events/details/customer-appreciation-day-1243
END:VEVENT

END:VCALENDAR
