BEGIN:VCALENDAR
VERSION:2.0
PRODID:-//ChamberMaster//Event Calendar 2.0//EN
METHOD:PUBLISH
X-PUBLISHED-TTL:P3D
REFRESH-INTERVAL:P3D
CALSCALE:GREGORIAN
BEGIN:VEVENT
DTSTART:20190712T150000Z
DTEND:20190712T190000Z
X-MICROSOFT-CDO-ALLDAYEVENT:FALSE
SUMMARY:Customer Appreciation Day
DESCRIPTION:Customer Appreciation Day with The Peoples Bank on Newark Rd. besides Lannings. Face Painting\, free lunch\, giveaways and Dogs of Knox Fund will be visiting.
X-ALT-DESC;FMTTYPE=text/html:Customer Appreciation Day with The Peoples Bank on Newark Rd. besides Lannings. Face Painting\, free lunch\, giveaways and Dogs of Knox Fund will be visiting.
LOCATION:1051 Nweark Rd Mount Vernon\, Ohio 43050
UID:e.2893.4350
SEQUENCE:3
DTSTAMP:20260421T085033Z
URL:http://knoxchamber.smartcms.site/events/details/customer-appreciation-day-07-12-2019-4350
END:VEVENT

END:VCALENDAR
