BEGIN:VCALENDAR
VERSION:2.0
PRODID:-//ChamberMaster//Event Calendar 2.0//EN
METHOD:PUBLISH
X-PUBLISHED-TTL:P3D
REFRESH-INTERVAL:P3D
CALSCALE:GREGORIAN
BEGIN:VEVENT
DTSTART;VALUE=DATE:20170603
DTEND;VALUE=DATE:20170604
TRANSP:TRANSPARENT
X-MICROSOFT-CDO-ALLDAYEVENT:TRUE
SUMMARY:Crosshairs Paintball Open House
DESCRIPTION:Join Crosshairs on Saturday in celebration of their opening! There will be raffles and giveaways\, the chance to shoot paintball's\, food and more!
X-ALT-DESC;FMTTYPE=text/html:Join Crosshairs on Saturday in celebration of their opening! There will be raffles and giveaways\, the chance to shoot&nbsp\;paintball&#39\;s\, food and more!&nbsp\;
LOCATION:
UID:e.2893.1383
SEQUENCE:3
DTSTAMP:20260423T063311Z
URL:http://knoxchamber.smartcms.site/events/details/crosshairs-paintball-open-house-1383
END:VEVENT

END:VCALENDAR
