BEGIN:VCALENDAR
VERSION:2.0
PRODID:-//ChamberMaster//Event Calendar 2.0//EN
METHOD:PUBLISH
X-PUBLISHED-TTL:P3D
REFRESH-INTERVAL:P3D
CALSCALE:GREGORIAN
BEGIN:VEVENT
DTSTART:20170811T203000Z
DTEND:20170811T230000Z
X-MICROSOFT-CDO-ALLDAYEVENT:FALSE
SUMMARY:Crossfit 1808 & SportPro Grand Re-Opening & RC
DESCRIPTION:Join us on Friday\, August 11th at Crossfit 1808 and SportPro to celebrate their Grand Re-Opening with an Open House and ribbon cutting ceremony!\n\nThe Open House will take place from 4:30pm to 7:00pm\, with a ribbon cutting at 5:00pm.
X-ALT-DESC;FMTTYPE=text/html:Join us on Friday\, August 11th at Crossfit 1808 and SportPro to celebrate their Grand Re-Opening with an Open House and ribbon cutting ceremony!<br />\nThe Open House will take place from 4:30pm to 7:00pm\, with a ribbon cutting at 5:00pm.&nbsp\;
LOCATION:Crossfit 1808 -781 Fairgrounds Road\, Suite B\, Mount Vernon SportPro - 781 Fairgrounds Road\, Suite A\, Mount Vernon
UID:e.2893.1456
SEQUENCE:3
DTSTAMP:20260423T005600Z
URL:http://knoxchamber.smartcms.site/events/details/crossfit-1808-sportpro-grand-re-opening-rc-1456
END:VEVENT

END:VCALENDAR
