BEGIN:VCALENDAR
VERSION:2.0
PRODID:-//ChamberMaster//Event Calendar 2.0//EN
METHOD:PUBLISH
X-PUBLISHED-TTL:P3D
REFRESH-INTERVAL:P3D
CALSCALE:GREGORIAN
BEGIN:VEVENT
DTSTART:20190910T223000Z
DTEND:20190911T000000Z
X-MICROSOFT-CDO-ALLDAYEVENT:FALSE
SUMMARY:Creating a "Good Death" - Scripting End-of-Life Wishes
DESCRIPTION:If you are like most people\, you haven't thought much about your death or dying. Just because you don't think about death doesn't mean it won't happen.  If you haven't thought about it or talked about it with your loved ones\, it's likely to end as a crisis. \n\n\n\nIn this class\, you will explore important questions about end-of-life decisions and care\; start to make a plan of your wishes\, as well as\, explore the process of choosing a healthcare power of attorney who will follow your wishes.\n\n\n\nNo Pre-Registration required and free refreshments will be provided.
X-ALT-DESC;FMTTYPE=text/html:If you are like most people\, you haven&#39\;t thought much about your death or dying. Just because you don&#39\;t think about death doesn&#39\;t mean it won&#39\;t happen.&nbsp\; If you haven&#39\;t thought about it or talked about it with your loved ones\, it&#39\;s likely to end as a crisis.&nbsp\;<br />\n<br />\nIn this class\, you will explore important questions about end-of-life decisions and care\; start to make a plan of your wishes\, as well as\, explore the process of choosing a healthcare power of attorney who will follow your wishes.<br />\n<br />\nNo Pre-Registration required and free refreshments will be provided.&nbsp\;&nbsp\;
LOCATION:Knox Community Hospital Urgent Care Education Room 1490-C Coshocton Road
UID:e.2893.4441
SEQUENCE:3
DTSTAMP:20260421T053451Z
URL:http://knoxchamber.smartcms.site/events/details/creating-a-good-death-scripting-end-of-life-wishes-4441
END:VEVENT

END:VCALENDAR
