BEGIN:VCALENDAR
VERSION:2.0
PRODID:-//ChamberMaster//Event Calendar 2.0//EN
METHOD:PUBLISH
X-PUBLISHED-TTL:P3D
REFRESH-INTERVAL:P3D
CALSCALE:GREGORIAN
BEGIN:VEVENT
DTSTART:20210605T130000Z
DTEND:20210605T190000Z
X-MICROSOFT-CDO-ALLDAYEVENT:FALSE
SUMMARY:COPA at the BFEC
DESCRIPTION:Central Ohio Plein Air painters will come to the BFEC to paint outdoor scenes. Painters will be greeted by Noelle Jordan who will provide a brief orientation for different locations for painting. Then painters will spread out in a variety of locations on the 500 acres to paint. Restrooms in the Resource Center will be available. This program is open to 25 guests. Event Logistics: Masks and social distancing will be required for all programs Restrooms in the Resource Center will be sanitized before and after each program.
X-ALT-DESC;FMTTYPE=text/html:Central Ohio Plein Air painters will come to the BFEC to paint outdoor scenes. Painters will be greeted by Noelle Jordan who will provide a brief orientation for different locations for painting. Then painters will spread out in a variety of locations on the 500 acres to paint. Restrooms in the Resource Center will be available. This program is open to 25 guests. Event Logistics: Masks and social distancing will be required for all programs Restrooms in the Resource Center will be sanitized before and after each program.
LOCATION:Brown Family Environmental Center
UID:e.2893.4907
SEQUENCE:3
DTSTAMP:20260419T211531Z
URL:http://knoxchamber.smartcms.site/events/details/copa-at-the-bfec-4907
END:VEVENT

END:VCALENDAR
