BEGIN:VCALENDAR
VERSION:2.0
PRODID:-//ChamberMaster//Event Calendar 2.0//EN
METHOD:PUBLISH
X-PUBLISHED-TTL:P3D
REFRESH-INTERVAL:P3D
CALSCALE:GREGORIAN
BEGIN:VEVENT
DTSTART:20190827T130000Z
DTEND:20190827T210000Z
X-MICROSOFT-CDO-ALLDAYEVENT:FALSE
SUMMARY:ContactUs Career Fair
DESCRIPTION:ContactUs will be hosting a Career Fair all week. Hiring inbound Customer Service Specialists for our new contact center located at 939 Coshocton Road\, behind the Tim Hortons. Stop in and see us to start your new career. Visit our website at conctactusinc.com/careers for More information.
X-ALT-DESC;FMTTYPE=text/html:ContactUs will be hosting a Career Fair all week. Hiring inbound Customer Service Specialists for our new contact center located at 939 Coshocton Road\, behind the Tim Hortons. Stop in and see us to start your new career. Visit our website at conctactusinc.com/careers for More information.
LOCATION:Contactus Communications 939 Coshocton Rd Behind the Tim Hortons
UID:e.2893.4443
SEQUENCE:3
DTSTAMP:20260421T085635Z
URL:http://knoxchamber.smartcms.site/events/details/contactus-career-fair-08-27-2019-4443
END:VEVENT

END:VCALENDAR
