BEGIN:VCALENDAR
VERSION:2.0
PRODID:-//ChamberMaster//Event Calendar 2.0//EN
METHOD:PUBLISH
X-PUBLISHED-TTL:P3D
REFRESH-INTERVAL:P3D
CALSCALE:GREGORIAN
BEGIN:VEVENT
DTSTART;VALUE=DATE:20170331
DTEND;VALUE=DATE:20170401
TRANSP:TRANSPARENT
X-MICROSOFT-CDO-ALLDAYEVENT:TRUE
SUMMARY:Colorectal Cancer Screening
DESCRIPTION:FREE Colorectal Cancer Screenings Kits\, Are Provided By KCH In Honor Of The March Colorectal Cancer Awareness Campaign.\n\nKits are available Feb. 27 - March 31\n\nM-F | 8 am -4:30 pm at the following locations:\n\n\n	Volunteer Desk at KCH Front Entrance\n	Central Registration Desk at KCH\n	Knox Medical Pavilion Registration Desks\, ground floor\n	Center for Rehabilitation and Wellness\n	Urgent Care Center\n	Department of Primary Care\, Fredericktown\n\n\nINFO: 740.393.9621\n\nDID YOU KNOW?\n\nColon cancer is 90% preventable!
X-ALT-DESC;FMTTYPE=text/html:<h2 style="margin: 0px 0px 10px\; padding: 0px\; border: 0px\; font-variant-numeric: inherit\; font-weight: inherit\; font-stretch: inherit\; font-size: 31px\; line-height: inherit\; font-family: Dosis\, sans-serif\; vertical-align: baseline\; -webkit-font-smoothing: antialiased\; color: rgb(98\, 99\, 102)\; text-transform: capitalize\;">FREE Colorectal Cancer Screenings Kits\, Are Provided By KCH In Honor Of The March Colorectal Cancer Awareness Campaign.</h2>\n\n<h3 style="margin: 0px 0px 10px\; padding: 0px\; border: 0px\; font-variant-numeric: inherit\; font-weight: inherit\; font-stretch: inherit\; font-size: 21px\; line-height: inherit\; font-family: Dosis\, sans-serif\; vertical-align: baseline\; -webkit-font-smoothing: antialiased\; color: rgb(98\, 99\, 102)\;"><span style="margin: 0px\; padding: 0px\; border: 0px\; font-style: inherit\; font-variant: inherit\; font-weight: 600\; font-stretch: inherit\; font-size: inherit\; line-height: inherit\; font-family: inherit\; vertical-align: baseline\;">Kits are available Feb. 27 - March 31</span></h3>\n\n<p style="margin: 0px 0px 9px\; padding: 0px\; border: 0px\; font-variant-numeric: inherit\; font-stretch: inherit\; font-size: 15px\; line-height: 1.1\; vertical-align: baseline\; -webkit-font-smoothing: antialiased\; color: rgb(98\, 99\, 102)\; font-family: Dosis\, sans-serif !important\;">M-F | 8 am -4:30 pm at the following locations:</p>\n\n<ul style="margin: 0px 0px 14px 25px\; padding-right: 0px\; padding-left: 0px\; border: 0px\; font-variant-numeric: inherit\; font-stretch: inherit\; font-size: 15px\; line-height: inherit\; font-family: sans-serif\; vertical-align: baseline\; list-style-position: initial\; list-style-image: initial\; color: rgb(98\, 99\, 102)\;">\n	<li style="margin: 0px\; padding: 0px\; border: 0px\; font-style: inherit\; font-variant: inherit\; font-weight: inherit\; font-stretch: inherit\; font-size: inherit\; line-height: inherit\; font-family: Dosis\, sans-serif !important\; vertical-align: baseline\; outline: none !important\; -webkit-font-smoothing: antialiased\;">Volunteer Desk at KCH Front Entrance</li>\n	<li style="margin: 0px\; padding: 0px\; border: 0px\; font-style: inherit\; font-variant: inherit\; font-weight: inherit\; font-stretch: inherit\; font-size: inherit\; line-height: inherit\; font-family: Dosis\, sans-serif !important\; vertical-align: baseline\; outline: none !important\; -webkit-font-smoothing: antialiased\;">Central Registration Desk at KCH</li>\n	<li style="margin: 0px\; padding: 0px\; border: 0px\; font-style: inherit\; font-variant: inherit\; font-weight: inherit\; font-stretch: inherit\; font-size: inherit\; line-height: inherit\; font-family: Dosis\, sans-serif !important\; vertical-align: baseline\; outline: none !important\; -webkit-font-smoothing: antialiased\;">Knox Medical Pavilion Registration Desks\, ground floor</li>\n	<li style="margin: 0px\; padding: 0px\; border: 0px\; font-style: inherit\; font-variant: inherit\; font-weight: inherit\; font-stretch: inherit\; font-size: inherit\; line-height: inherit\; font-family: Dosis\, sans-serif !important\; vertical-align: baseline\; outline: none !important\; -webkit-font-smoothing: antialiased\;">Center for Rehabilitation and Wellness</li>\n	<li style="margin: 0px\; padding: 0px\; border: 0px\; font-style: inherit\; font-variant: inherit\; font-weight: inherit\; font-stretch: inherit\; font-size: inherit\; line-height: inherit\; font-family: Dosis\, sans-serif !important\; vertical-align: baseline\; outline: none !important\; -webkit-font-smoothing: antialiased\;">Urgent Care Center</li>\n	<li style="margin: 0px\; padding: 0px\; border: 0px\; font-style: inherit\; font-variant: inherit\; font-weight: inherit\; font-stretch: inherit\; font-size: inherit\; line-height: inherit\; font-family: Dosis\, sans-serif !important\; vertical-align: baseline\; outline: none !important\; -webkit-font-smoothing: antialiased\;">Department of Primary Care\, Fredericktown</li>\n</ul>\n\n<h4 style="margin: 0px 0px 10px\; padding: 0px\; border: 0px\; font-variant-numeric: inherit\; font-weight: inherit\; font-stretch: inherit\; font-size: 19px\; line-height: inherit\; font-family: Dosis\, sans-serif\; vertical-align: baseline\; -webkit-font-smoothing: antialiased\; color: rgb(98\, 99\, 102)\; text-transform: capitalize\;">INFO: 740.393.9621</h4>\n\n<p style="margin: 0px 0px 9px\; padding: 0px\; border: 0px\; font-variant-numeric: inherit\; font-stretch: inherit\; font-size: 15px\; line-height: 1.1\; vertical-align: baseline\; -webkit-font-smoothing: antialiased\; color: rgb(98\, 99\, 102)\; font-family: Dosis\, sans-serif !important\;"><span style="margin: 0px\; padding: 0px\; border: 0px\; font-style: inherit\; font-variant: inherit\; font-weight: 600\; font-stretch: inherit\; font-size: inherit\; line-height: inherit\; font-family: inherit\; vertical-align: baseline\;">DID YOU KNOW?<br />\nColon cancer is 90% preventable!</span></p>\n
LOCATION:
UID:e.2893.1326
SEQUENCE:3
DTSTAMP:20260423T112420Z
URL:http://knoxchamber.smartcms.site/events/details/colorectal-cancer-screening-1326
END:VEVENT

END:VCALENDAR
