BEGIN:VCALENDAR
VERSION:2.0
PRODID:-//ChamberMaster//Event Calendar 2.0//EN
METHOD:PUBLISH
X-PUBLISHED-TTL:P3D
REFRESH-INTERVAL:P3D
CALSCALE:GREGORIAN
BEGIN:VEVENT
DTSTART:20171119T160000Z
DTEND:20171119T210000Z
X-MICROSOFT-CDO-ALLDAYEVENT:FALSE
SUMMARY:Coleman's 33rd Annual Christmas/Seconds Sale
DESCRIPTION:Coleman's 33rd Annual Christmas/Seconds Sale\n\nSunday\, November 19\, 2017\n\nDemos at 12:00pm and 3:00pm\n\n15850 Carson Road\, Mount Vernon
X-ALT-DESC;FMTTYPE=text/html:Coleman&#39\;s 33rd Annual Christmas/Seconds Sale<br />\nSunday\, November 19\, 2017<br />\nDemos at 12:00pm and 3:00pm<br />\n15850 Carson Road\, Mount Vernon
LOCATION:
UID:e.2893.2522
SEQUENCE:3
DTSTAMP:20260422T193645Z
URL:http://knoxchamber.smartcms.site/events/details/coleman-s-33rd-annual-christmas-seconds-sale-2522
END:VEVENT

END:VCALENDAR
